BEGIN:VCALENDAR
VERSION:2.0
PRODID:icalendar-ruby
CALSCALE:GREGORIAN
METHOD:PUBLISH
BEGIN:VEVENT
DTSTAMP:20260421T043750Z
UID:6-405331@emergeoutreach.tithelysetup2.com
DTSTART:20260505T030000Z
DTEND:20260505T040000Z
CLASS:PUBLIC
CREATED:20260420T164629
DESCRIPTION:\n\n\n\n\n\nThis call is for you if you’re looking to:\n\n\nC
 onnect with Like-Minded Entrepreneurs: Surround yourself with faith-driven
  leaders who share your passion for business and community impact.\n “As
  iron sharpens iron\, so one person sharpens another.” - Proverbs 27:17\
 n\n\nGain Insightful Strategies: Learn how to integrate faith and purpose 
 into your entrepreneurial journey while growing your business with integri
 ty.\n “Commit your work to the Lord\, and your plans will be established
 .” - Proverbs 16:3\n\n\nBe Empowered and Encouraged: Receive spiritual e
 ncouragement and practical advice to overcome challenges and stay motivate
 d.\n “But those who hope in the Lord will renew their strength.” - Isa
 iah 40:31\n\n\nDevelop Lasting Relationships: Build genuine connections th
 at support your personal\, spiritual\, and professional growth.\n “Two a
 re better than one\, because they have a good return for their labor.” -
  Ecclesiastes 4:9\n\n\nDiscover Community Outreach Opportunities: Learn ho
 w EMERGE is making an impact and how you can be a part of it.\n “Let you
 r light shine before others\, that they may see your good deeds and glorif
 y your Father in heaven.” - Matthew 5:16\n\n\nAccess Mentorship and Supp
 ort: Gain access to experienced leaders who are ready to pour into your jo
 urney and provide guidance.\n “Plans fail for lack of counsel\, but with
  many advisers they succeed.” - Proverbs 15:22\n\n\nBe Part of a Movemen
 t: Join a thriving community of entrepreneurs who are passionate about hon
 oring God through their business practices.\n “Therefore encourage one a
 nother and build each other up\, just as in fact you are doing.” - 1 The
 ssalonians 5:11\n\n\nhttps://stan.store/Krol_Inc/p/emerge-monday-8pm-power
 -call\nOnce you register for access to the Power Zoom\, you’ll receive a
  personal call from a member of our team. This isn’t just a step — it
 ’s your invitation to hear the vision and the heart behind what we’re 
 building. We use this moment to ensure alignment\, because this community 
 is built for purpose-driven individuals ready to grow\, lead\, and make an
  impact.\nIf that’s you\, we can’t wait to connect.\n\n\n
LAST-MODIFIED:20260420T164629
LOCATION:Zoom
SUMMARY:Power Hour
URL;VALUE=URI:https://emergeoutreach.tithelysetup2.com/events/power-hour/20
 26-05-04
ATTACH;FILENAME=Emerge-APP-images.png;FMTTYPE=image/png:https://dq5pwpg1q8r
 u0.cloudfront.net/2026/04/20/23/46/29/fc7bf40f-3ac5-42cc-8343-4ce87d0c7bfa
 /Emerge-APP-images.png
END:VEVENT
END:VCALENDAR
