BEGIN:VCALENDAR
VERSION:2.0
PRODID:icalendar-ruby
CALSCALE:GREGORIAN
METHOD:PUBLISH
BEGIN:VEVENT
DTSTAMP:20260421T071120Z
UID:7-405334@emergeoutreach.tithelysetup2.com
DTSTART:20260423T030000Z
DTEND:20260423T033000Z
CLASS:PUBLIC
CREATED:20260420T182341
DESCRIPTION:Watch here: https://www.youtube.com/live/_JP5zxDUhRc\n 
LAST-MODIFIED:20260420T182341
LOCATION:Youtube
SUMMARY:Everyday Glory
URL;VALUE=URI:https://emergeoutreach.tithelysetup2.com/events/everyday-glor
 y/2026-04-22
ATTACH;FILENAME=EMERGE-2025-flyers-YouTube-Thumbnail-8.png;FMTTYPE=image/pn
 g:https://dq5pwpg1q8ru0.cloudfront.net/2026/04/21/01/23/40/96f035db-9564-4
 cbf-a179-a188c35c0795/EMERGE-2025-flyers-YouTube-Thumbnail-8.png
END:VEVENT
END:VCALENDAR
